BEGIN:VCALENDAR
VERSION:2.0
PRODID:-//The Devine School - ECPv4.6.16//NONSGML v1.0//EN
CALSCALE:GREGORIAN
METHOD:PUBLISH
X-WR-CALNAME:The Devine School
X-ORIGINAL-URL:https://thedevineschool.com
X-WR-CALDESC:Events for The Devine School
BEGIN:VEVENT
DTSTART;VALUE=DATE:20200402
DTEND;VALUE=DATE:20200403
DTSTAMP:20260420T160332
CREATED:20191122T170045Z
LAST-MODIFIED:20191122T170045Z
UID:2065-1585785600-1585871999@thedevineschool.com
SUMMARY:World Autism Awareness Day
DESCRIPTION:
URL:https://thedevineschool.com/event/world-autism-awareness-day/
CATEGORIES:Calendar Only
END:VEVENT
END:VCALENDAR