BEGIN:VCALENDAR
VERSION:2.0
PRODID:-//The Devine School - ECPv4.6.16//NONSGML v1.0//EN
CALSCALE:GREGORIAN
METHOD:PUBLISH
X-WR-CALNAME:The Devine School
X-ORIGINAL-URL:https://thedevineschool.com
X-WR-CALDESC:Events for The Devine School
BEGIN:VEVENT
DTSTART;TZID=America/New_York:20200316T080000
DTEND;TZID=America/New_York:20200320T170000
DTSTAMP:20260420T201336
CREATED:20200115T162447Z
LAST-MODIFIED:20200115T162447Z
UID:2176-1584345600-1584723600@thedevineschool.com
SUMMARY:Book Fair - Brookside
DESCRIPTION:
URL:https://thedevineschool.com/event/book-fair-brookside/
CATEGORIES:Calendar Only,Prospective Families, Events, Home
END:VEVENT
END:VCALENDAR